BEGIN:VCALENDAR
VERSION:2.0
PRODID:-//Belton Christian Youth Center - ECPv6.15.20//NONSGML v1.0//EN
CALSCALE:GREGORIAN
METHOD:PUBLISH
X-ORIGINAL-URL:https://beltonyouth.com
X-WR-CALDESC:Events for Belton Christian Youth Center
REFRESH-INTERVAL;VALUE=DURATION:PT1H
X-Robots-Tag:noindex
X-PUBLISHED-TTL:PT1H
BEGIN:VTIMEZONE
TZID:America/Indiana/Knox
BEGIN:DAYLIGHT
TZOFFSETFROM:-0600
TZOFFSETTO:-0500
TZNAME:CDT
DTSTART:20240310T080000
END:DAYLIGHT
BEGIN:STANDARD
TZOFFSETFROM:-0500
TZOFFSETTO:-0600
TZNAME:CST
DTSTART:20241103T070000
END:STANDARD
BEGIN:DAYLIGHT
TZOFFSETFROM:-0600
TZOFFSETTO:-0500
TZNAME:CDT
DTSTART:20250309T080000
END:DAYLIGHT
BEGIN:STANDARD
TZOFFSETFROM:-0500
TZOFFSETTO:-0600
TZNAME:CST
DTSTART:20251102T070000
END:STANDARD
BEGIN:DAYLIGHT
TZOFFSETFROM:-0600
TZOFFSETTO:-0500
TZNAME:CDT
DTSTART:20260308T080000
END:DAYLIGHT
BEGIN:STANDARD
TZOFFSETFROM:-0500
TZOFFSETTO:-0600
TZNAME:CST
DTSTART:20261101T070000
END:STANDARD
END:VTIMEZONE
BEGIN:VEVENT
DTSTART;VALUE=DATE:20250120
DTEND;VALUE=DATE:20250121
DTSTAMP:20260421T094218
CREATED:20240425T150523Z
LAST-MODIFIED:20240425T150523Z
UID:801399-1737331200-1737417599@beltonyouth.com
SUMMARY:MLK Jr Day - BCYC Closed
DESCRIPTION:
URL:https://beltonyouth.com/calendar/mlk-jr-day-bcyc-closed/
LOCATION:Texas
CATEGORIES:BCYC Operations
END:VEVENT
BEGIN:VEVENT
DTSTART;VALUE=DATE:20250217
DTEND;VALUE=DATE:20250219
DTSTAMP:20260421T094218
CREATED:20240425T150553Z
LAST-MODIFIED:20240425T150553Z
UID:801401-1739750400-1739923199@beltonyouth.com
SUMMARY:Full Day Care
DESCRIPTION:
URL:https://beltonyouth.com/calendar/full-day-care-5/
LOCATION:Texas
CATEGORIES:BCYC Operations
END:VEVENT
BEGIN:VEVENT
DTSTART;VALUE=DATE:20250310
DTEND;VALUE=DATE:20250315
DTSTAMP:20260421T094218
CREATED:20240425T150636Z
LAST-MODIFIED:20240425T150636Z
UID:801403-1741564800-1741996799@beltonyouth.com
SUMMARY:Spring Break - Full Day Care
DESCRIPTION:
URL:https://beltonyouth.com/calendar/spring-break-full-day-care/
LOCATION:Texas
CATEGORIES:BCYC Operations
END:VEVENT
BEGIN:VEVENT
DTSTART;VALUE=DATE:20250418
DTEND;VALUE=DATE:20250419
DTSTAMP:20260421T094218
CREATED:20240425T150724Z
LAST-MODIFIED:20240425T150724Z
UID:801405-1744934400-1745020799@beltonyouth.com
SUMMARY:Good Friday - BCYC Closed
DESCRIPTION:
URL:https://beltonyouth.com/calendar/good-friday-bcyc-closed/
LOCATION:Texas
CATEGORIES:BCYC Operations
END:VEVENT
BEGIN:VEVENT
DTSTART;VALUE=DATE:20250421
DTEND;VALUE=DATE:20250422
DTSTAMP:20260421T094218
CREATED:20240425T150803Z
LAST-MODIFIED:20240425T150803Z
UID:801407-1745193600-1745279999@beltonyouth.com
SUMMARY:Full Day Care
DESCRIPTION:
URL:https://beltonyouth.com/calendar/full-day-care-6/
LOCATION:Texas
CATEGORIES:BCYC Operations
END:VEVENT
BEGIN:VEVENT
DTSTART;TZID=America/Indiana/Knox:20250521T120000
DTEND;TZID=America/Indiana/Knox:20250521T180000
DTSTAMP:20260421T094218
CREATED:20240425T150938Z
LAST-MODIFIED:20240425T150938Z
UID:801411-1747828800-1747850400@beltonyouth.com
SUMMARY:Early Release
DESCRIPTION:
URL:https://beltonyouth.com/calendar/early-release-2/
LOCATION:Texas
CATEGORIES:BCYC Operations
END:VEVENT
BEGIN:VEVENT
DTSTART;VALUE=DATE:20250522
DTEND;VALUE=DATE:20250524
DTSTAMP:20260421T094218
CREATED:20240425T143512Z
LAST-MODIFIED:20240425T143512Z
UID:801355-1747872000-1748044799@beltonyouth.com
SUMMARY:BCYC Closed for Staff Training
DESCRIPTION:
URL:https://beltonyouth.com/calendar/bcyc-closed-for-staff-training-2-2-2/
LOCATION:Texas
CATEGORIES:BCYC Operations
END:VEVENT
BEGIN:VEVENT
DTSTART;VALUE=DATE:20250526
DTEND;VALUE=DATE:20250527
DTSTAMP:20260421T094218
CREATED:20240425T143558Z
LAST-MODIFIED:20240425T143558Z
UID:801357-1748217600-1748303999@beltonyouth.com
SUMMARY:Memorial Day - BCYC Closed
DESCRIPTION:
URL:https://beltonyouth.com/calendar/memorial-day-bcyc-closed-2/
LOCATION:Texas
CATEGORIES:BCYC Operations
END:VEVENT
BEGIN:VEVENT
DTSTART;VALUE=DATE:20250527
DTEND;VALUE=DATE:20250528
DTSTAMP:20260421T094218
CREATED:20240425T143950Z
LAST-MODIFIED:20240425T143950Z
UID:801359-1748304000-1748390399@beltonyouth.com
SUMMARY:BCYC Closed for Staff Training
DESCRIPTION:
URL:https://beltonyouth.com/calendar/bcyc-closed-for-staff-training-2-3/
LOCATION:Texas
CATEGORIES:BCYC Operations
END:VEVENT
BEGIN:VEVENT
DTSTART;VALUE=DATE:20250528
DTEND;VALUE=DATE:20250529
DTSTAMP:20260421T094218
CREATED:20240425T145655Z
LAST-MODIFIED:20240425T145655Z
UID:801389-1748390400-1748476799@beltonyouth.com
SUMMARY:First Day of Summer Camp 2025
DESCRIPTION:
URL:https://beltonyouth.com/calendar/first-day-of-summer-camp-2025/
LOCATION:Texas
CATEGORIES:BCYC Operations
END:VEVENT
BEGIN:VEVENT
DTSTART;VALUE=DATE:20250619
DTEND;VALUE=DATE:20250620
DTSTAMP:20260421T094218
CREATED:20240425T145912Z
LAST-MODIFIED:20240425T145912Z
UID:801393-1750291200-1750377599@beltonyouth.com
SUMMARY:Juneteenth - BCYC Closed
DESCRIPTION:
URL:https://beltonyouth.com/calendar/juneteenth-bcyc-closed-2/
LOCATION:Texas
CATEGORIES:BCYC Operations
END:VEVENT
BEGIN:VEVENT
DTSTART;VALUE=DATE:20250704
DTEND;VALUE=DATE:20250705
DTSTAMP:20260421T094218
CREATED:20240425T145555Z
LAST-MODIFIED:20240425T145555Z
UID:801387-1751587200-1751673599@beltonyouth.com
SUMMARY:4th of July - BCYC Closed
DESCRIPTION:
URL:https://beltonyouth.com/calendar/july-4th-bcyc-closed-2/
LOCATION:Texas
CATEGORIES:BCYC Operations
END:VEVENT
END:VCALENDAR